BEGIN:VCALENDAR
VERSION:2.0
PRODID:-//www.nyscadv.org//NONSGML kigkonsult.se iCalcreator 2.30.10//
CALSCALE:GREGORIAN
METHOD:PUBLISH
UID:261f9f85-98b7-4fa2-a200-fa7629938b5d
X-WR-CALDESC:NYSCADV’s Budget Advocacy Day presents the perfect opportunity
  to meet with local legislators and communicate our needs and concerns. If
  you are unable to join us in Albany\, we will also be hosting a virtual a
 dvocacy day* where you can call\, fax\, and email your legislators and Gov
 ernor Cuomo to let them know about the specific needs of domestic violence
  organizations and the survivors they serve around the state. We encourage
  survivors to contact their elected officials to let them know how importa
 nt these issues are. \n\nMore details and registration to follow
X-WR-RELCALID:4258b686e917c51c753213a10eb14c1b
X-WR-TIMEZONE:America/New_York
BEGIN:VTIMEZONE
TZID:America/New_York
BEGIN:STANDARD
TZNAME:EST
DTSTART:20191103T020000
TZOFFSETFROM:-0400
TZOFFSETTO:-0500
RDATE:20201101T020000
END:STANDARD
BEGIN:DAYLIGHT
TZNAME:EDT
DTSTART:20190310T020000
TZOFFSETFROM:-0500
TZOFFSETTO:-0400
RDATE:20200308T020000
RDATE:20210314T020000
END:DAYLIGHT
END:VTIMEZONE
BEGIN:VEVENT
UID:0c542246-be7c-4498-9414-7541c9074886
DTSTAMP:20260424T221447Z
DESCRIPTION:NYSCADV’s Budget Advocacy Day presents the perfect opportunity 
 to meet with local legislators and communicate our needs and concerns. If 
 you are unable to join us in Albany\, we will also be hosting a virtual ad
 vocacy day* where you can call\, fax\, and email your legislators and Gove
 rnor Cuomo to let them know about the specific needs of domestic violence 
 organizations and the survivors they serve around the state. We encourage 
 survivors to contact their elected officials to let them know how importan
 t these issues are. \n\nMore details and registration to follow
DTSTART;TZID=America/New_York:20200204T000000
DTEND;TZID=America/New_York:20200204T235900
LOCATION:Albany\, NY
SUMMARY:NYSCADV Budget Advocacy Day
END:VEVENT
END:VCALENDAR
