BEGIN:VCALENDAR
VERSION:2.0
PRODID:-//www.nyscadv.org//NONSGML kigkonsult.se iCalcreator 2.30.10//
CALSCALE:GREGORIAN
METHOD:PUBLISH
UID:013e1d3b-cff5-470b-b823-fc5522f34e95
X-WR-CALDESC:Peer Support Call for BIPOC at Victim Services Programs\nEvery
  other Wednesday: September 2\, September 16\, and September 30\n11:00 AM 
 - 12:30 PM\n\nAn online space for victim services staff/volunteers who ide
 ntify as Black\, Indigenous/Native\, or otherwise as People of Color.\n
X-WR-RELCALID:9156c13d484eb48c2ecf915d8f908651
X-WR-TIMEZONE:America/New_York
BEGIN:VTIMEZONE
TZID:America/New_York
BEGIN:STANDARD
TZNAME:EST
DTSTART:20191103T020000
TZOFFSETFROM:-0400
TZOFFSETTO:-0500
RDATE:20201101T020000
RDATE:20211107T020000
END:STANDARD
BEGIN:DAYLIGHT
TZNAME:EDT
DTSTART:20200308T020000
TZOFFSETFROM:-0500
TZOFFSETTO:-0400
RDATE:20210314T020000
END:DAYLIGHT
END:VTIMEZONE
BEGIN:VEVENT
UID:532e93a3-3902-4e0e-ab2f-548ba0b94472
DTSTAMP:20260424T034020Z
DESCRIPTION:Peer Support Call for BIPOC at Victim Services Programs\nEvery 
 other Wednesday: September 2\, September 16\, and September 30\n11:00 AM -
  12:30 PM\n\nAn online space for victim services staff/volunteers who iden
 tify as Black\, Indigenous/Native\, or otherwise as People of Color.\n
DTSTART;TZID=America/New_York:20200902T110000
DTEND;TZID=America/New_York:20200902T123000
LOCATION:
SUMMARY:NYSCASA: Peer Support Call for BIPOC at Victim Services Programs
END:VEVENT
END:VCALENDAR
