BEGIN:VCALENDAR
VERSION:2.0
PRODID:-//www.nyscadv.org//NONSGML kigkonsult.se iCalcreator 2.30.10//
CALSCALE:GREGORIAN
METHOD:PUBLISH
UID:2ef93a0e-6515-45b0-9079-688e5eff2271
X-WR-CALDESC:We know that American Indian/Alaska Native women experience so
 me of the highest rates for domestic violence\, sexual assault\, stalking\
 , sex trafficking\, homicide at the hands of an intimate partner\, and mis
 sing & murdered.  Women with disabilities are of double risk for violence 
 and abuse.  This webinar will offer data on American Indian/Alaska Native 
 disabilities in equal access\, fair accommodations\, and an opportunity to
  make powerful contributions to provide accessible\, safe\, and effective 
 services to individuals with disabilities and Deaf individuals who are vic
 tims of sexual assault\, domestic violence\, dating violence and stalking.
X-WR-RELCALID:01552615048b1cf30359dc4215717683
X-WR-TIMEZONE:America/New_York
BEGIN:VTIMEZONE
TZID:America/New_York
BEGIN:STANDARD
TZNAME:EST
DTSTART:20191103T020000
TZOFFSETFROM:-0400
TZOFFSETTO:-0500
RDATE:20201101T020000
RDATE:20211107T020000
END:STANDARD
BEGIN:DAYLIGHT
TZNAME:EDT
DTSTART:20200308T020000
TZOFFSETFROM:-0500
TZOFFSETTO:-0400
RDATE:20210314T020000
RDATE:20220313T020000
END:DAYLIGHT
END:VTIMEZONE
BEGIN:VEVENT
UID:bc5c35a7-3d1f-4678-bf47-11db125d7f7e
DTSTAMP:20260423T072103Z
DESCRIPTION:We know that American Indian/Alaska Native women experience som
 e of the highest rates for domestic violence\, sexual assault\, stalking\,
  sex trafficking\, homicide at the hands of an intimate partner\, and miss
 ing & murdered.  Women with disabilities are of double risk for violence a
 nd abuse.  This webinar will offer data on American Indian/Alaska Native d
 isabilities in equal access\, fair accommodations\, and an opportunity to 
 make powerful contributions to provide accessible\, safe\, and effective s
 ervices to individuals with disabilities and Deaf individuals who are vict
 ims of sexual assault\, domestic violence\, dating violence and stalking.
DTSTART;TZID=America/New_York:20200916T150000
DTEND;TZID=America/New_York:20200916T163000
LOCATION:
SUMMARY:NIWRC: Domestic Violence and Disabilities
END:VEVENT
END:VCALENDAR
