BEGIN:VCALENDAR
VERSION:2.0
PRODID:-//www.nyscadv.org//NONSGML kigkonsult.se iCalcreator 2.30.10//
CALSCALE:GREGORIAN
METHOD:PUBLISH
UID:4b29a426-20af-4cfd-aee4-2d7cbb4763a8
X-WR-CALDESC:Join the FreeFrom team for an hour-long webinar on the Safety 
 Fund\, our initiative to get cash directly to survivors of intimate partne
 r violence during the COVID-19 pandemic.\n\nLearn about:\n• Key findings f
 rom our new report based on data collected from Safety Fund recipients\, S
 urvivors Know Best: How to Disrupt Intimate Partner Violence During COVID-
 19 and Beyond\n• The logistics of providing $250 cash grants to 1\,100 sur
 vivors in 36 states and Puerto Rico\n• Tips\, insights\, and lessons learn
 ed for starting an unrestricted cash grant program for survivors at your o
 rganization or community\n\n\nWho should attend?\nFolks working in the IPV
  movement and community leaders.\n\nThe webinar will be recorded and avail
 able for view after – please register to receive the link to the recording
 .
X-WR-RELCALID:35b899892331e89a994985cce09b30ec
X-WR-TIMEZONE:America/New_York
BEGIN:VTIMEZONE
TZID:America/New_York
BEGIN:STANDARD
TZNAME:EST
DTSTART:20191103T020000
TZOFFSETFROM:-0400
TZOFFSETTO:-0500
RDATE:20201101T020000
RDATE:20211107T020000
END:STANDARD
BEGIN:DAYLIGHT
TZNAME:EDT
DTSTART:20200308T020000
TZOFFSETFROM:-0500
TZOFFSETTO:-0400
RDATE:20210314T020000
RDATE:20220313T020000
END:DAYLIGHT
END:VTIMEZONE
BEGIN:VEVENT
UID:01623939-9442-4387-9486-91e0de7c2a0d
DTSTAMP:20260424T004657Z
DESCRIPTION:Join the FreeFrom team for an hour-long webinar on the Safety F
 und\, our initiative to get cash directly to survivors of intimate partner
  violence during the COVID-19 pandemic.\n\nLearn about:\n• Key findings fr
 om our new report based on data collected from Safety Fund recipients\, Su
 rvivors Know Best: How to Disrupt Intimate Partner Violence During COVID-1
 9 and Beyond\n• The logistics of providing $250 cash grants to 1\,100 surv
 ivors in 36 states and Puerto Rico\n• Tips\, insights\, and lessons learne
 d for starting an unrestricted cash grant program for survivors at your or
 ganization or community\n\n\nWho should attend?\nFolks working in the IPV 
 movement and community leaders.\n\nThe webinar will be recorded and availa
 ble for view after – please register to receive the link to the recording.
DTSTART;TZID=America/New_York:20200917T140000
DTEND;TZID=America/New_York:20200917T150000
LOCATION:
SUMMARY:Providing Unrestricted Cash Grants to Survivors of Intimate Partner
  Violence
END:VEVENT
END:VCALENDAR
