BEGIN:VCALENDAR
VERSION:2.0
PRODID:-//www.nyscadv.org//NONSGML kigkonsult.se iCalcreator 2.30.10//
CALSCALE:GREGORIAN
METHOD:PUBLISH
UID:3e0d9eab-ec54-4ae1-919c-6ce180ffd5a3
X-WR-CALDESC:Join the WomensLaw’s legal team for a series of Online Informa
 tion Clinics (OICs)\, where you can watch a twenty-minute training on rest
 raining orders and chat with a lawyer about any questions you may have abo
 ut domestic or sexual violence or stalking. Drop in any time between 12 pm
  – 2 pm ET to view the OIC and to chat with a lawyer who can provide you w
 ith legal information and referrals! You can also watch the OIC any time o
 n WomensLaw.org and ask your questions through our Email Hotline.  The top
 ic for today is: How Covid-19 considerations have affected the court syste
 m and victims’/survivors’ access to legal proceedings.
X-WR-RELCALID:4534877505d91e554368f6fc81ab1396
X-WR-TIMEZONE:America/New_York
BEGIN:VTIMEZONE
TZID:America/New_York
BEGIN:STANDARD
TZNAME:EST
DTSTART:20191103T020000
TZOFFSETFROM:-0400
TZOFFSETTO:-0500
RDATE:20201101T020000
RDATE:20211107T020000
END:STANDARD
BEGIN:DAYLIGHT
TZNAME:EDT
DTSTART:20200308T020000
TZOFFSETFROM:-0500
TZOFFSETTO:-0400
RDATE:20210314T020000
RDATE:20220313T020000
END:DAYLIGHT
END:VTIMEZONE
BEGIN:VEVENT
UID:a96a7b0b-b641-4e6f-b456-0fe65b02e563
DTSTAMP:20260423T190813Z
DESCRIPTION:Join the WomensLaw’s legal team for a series of Online Informat
 ion Clinics (OICs)\, where you can watch a twenty-minute training on restr
 aining orders and chat with a lawyer about any questions you may have abou
 t domestic or sexual violence or stalking. Drop in any time between 12 pm 
 – 2 pm ET to view the OIC and to chat with a lawyer who can provide you wi
 th legal information and referrals! You can also watch the OIC any time on
  WomensLaw.org and ask your questions through our Email Hotline.  The topi
 c for today is: How Covid-19 considerations have affected the court system
  and victims’/survivors’ access to legal proceedings.
DTSTART;TZID=America/New_York:20200922T120000
DTEND;TZID=America/New_York:20200922T140000
LOCATION:
SUMMARY:Womenslaw.org: Restraining Orders: Covid-19 Considerations
END:VEVENT
END:VCALENDAR
