BEGIN:VCALENDAR
VERSION:2.0
PRODID:-//www.nyscadv.org//NONSGML kigkonsult.se iCalcreator 2.30.10//
CALSCALE:GREGORIAN
METHOD:PUBLISH
UID:969450eb-a8c1-4a7a-870a-684809740dcd
X-WR-CALDESC:Military-connected victims of stalking face unique challenges 
 from navigating the complexity that is military criminal justice to knowin
 g which rights can be asserted in that system. During this session\, the p
 resenters will provide an overview of military criminal justice and victim
 s’ rights as they impact victims of stalking. The presenters will also ide
 ntify critical partnerships and services that exist to support military-co
 nnected victims of stalking. Please join NCVLI and presenters Major Cronin
 \, Special Victim Prosecutor and Chief\, SV Litigation\, Fort Bliss\, Texa
 s\; and Lieutenant Commander Nica\, Victims’ Legal Counsel in Bremerton\, 
 Washington for a virtual training on Thursday\, November 5th from 12:00pm-
 1:30pm Pacific.\n\nFrom this training\, you will gain knowledge of: (1) th
 e black letter law of the crime of stalking under military law\; (2) victi
 ms’ rights and services available to military-connected victims of stalkin
 g in military criminal justice\; (3) the realities of investigating and pr
 osecuting the crime of stalking under military law\; and (4) practice tips
  for lawyers representing military-connected victims of stalking.
X-WR-RELCALID:f4441a78aeb358f5f03c36c9a8a07230
X-WR-TIMEZONE:America/New_York
BEGIN:VTIMEZONE
TZID:America/New_York
BEGIN:STANDARD
TZNAME:EST
DTSTART:20201101T020000
TZOFFSETFROM:-0400
TZOFFSETTO:-0500
RDATE:20211107T020000
END:STANDARD
BEGIN:DAYLIGHT
TZNAME:EDT
DTSTART:20200308T020000
TZOFFSETFROM:-0500
TZOFFSETTO:-0400
RDATE:20210314T020000
RDATE:20220313T020000
END:DAYLIGHT
END:VTIMEZONE
BEGIN:VEVENT
UID:d1e8b1d5-32e9-4f23-b097-a5d5a33509da
DTSTAMP:20260422T045733Z
DESCRIPTION:Military-connected victims of stalking face unique challenges f
 rom navigating the complexity that is military criminal justice to knowing
  which rights can be asserted in that system. During this session\, the pr
 esenters will provide an overview of military criminal justice and victims
 ’ rights as they impact victims of stalking. The presenters will also iden
 tify critical partnerships and services that exist to support military-con
 nected victims of stalking. Please join NCVLI and presenters Major Cronin\
 , Special Victim Prosecutor and Chief\, SV Litigation\, Fort Bliss\, Texas
 \; and Lieutenant Commander Nica\, Victims’ Legal Counsel in Bremerton\, W
 ashington for a virtual training on Thursday\, November 5th from 12:00pm-1
 :30pm Pacific.\n\nFrom this training\, you will gain knowledge of: (1) the
  black letter law of the crime of stalking under military law\; (2) victim
 s’ rights and services available to military-connected victims of stalking
  in military criminal justice\; (3) the realities of investigating and pro
 secuting the crime of stalking under military law\; and (4) practice tips 
 for lawyers representing military-connected victims of stalking.
DTSTART;TZID=America/New_York:20201105T150000
DTEND;TZID=America/New_York:20201105T163000
LOCATION:
SUMMARY:National Crime Victim Law Institute:The Military Justice System: St
 alking Victims’ Rights and Experiences
END:VEVENT
END:VCALENDAR
