BEGIN:VCALENDAR
VERSION:2.0
PRODID:-//www.nyscadv.org//NONSGML kigkonsult.se iCalcreator 2.30.10//
CALSCALE:GREGORIAN
METHOD:PUBLISH
UID:1ea35778-c66b-421c-8d96-9e120d66f624
X-WR-CALDESC:The Facing Race virtual conference dates have been moved to No
 vember 10 - 12\, 2020. Pricing for the online event has been modified in o
 rder to reflect the new conference experience. We welcome you to explore t
 he different pricing options below to understand which option is right for
  you\, and then click on the blue registration button when you are ready t
 o go!\n\nThank you to everyone who registered early! We hope that you will
  consider joining us for the virtual conference. There are a few options a
 vailable for converting your existing registration since there is a differ
 ence between the cost of the in-person registration pricing and virtual re
 gistration pricing.
X-WR-RELCALID:324ab44402a75d9928d17d32e3a689e6
X-WR-TIMEZONE:America/New_York
BEGIN:VTIMEZONE
TZID:America/New_York
BEGIN:STANDARD
TZNAME:EST
DTSTART:20201101T020000
TZOFFSETFROM:-0400
TZOFFSETTO:-0500
RDATE:20211107T020000
END:STANDARD
BEGIN:DAYLIGHT
TZNAME:EDT
DTSTART:20200308T020000
TZOFFSETFROM:-0500
TZOFFSETTO:-0400
RDATE:20210314T020000
RDATE:20220313T020000
END:DAYLIGHT
END:VTIMEZONE
BEGIN:VEVENT
UID:4c982e49-b3b1-4ae0-8478-6fa4c2f267df
DTSTAMP:20260422T045841Z
DESCRIPTION:The Facing Race virtual conference dates have been moved to Nov
 ember 10 - 12\, 2020. Pricing for the online event has been modified in or
 der to reflect the new conference experience. We welcome you to explore th
 e different pricing options below to understand which option is right for 
 you\, and then click on the blue registration button when you are ready to
  go!\n\nThank you to everyone who registered early! We hope that you will 
 consider joining us for the virtual conference. There are a few options av
 ailable for converting your existing registration since there is a differe
 nce between the cost of the in-person registration pricing and virtual reg
 istration pricing.
DTSTART;TZID=America/New_York:20201110T000000
DTEND;TZID=America/New_York:20201112T235900
LOCATION:
SUMMARY:Facing Race A National Conference
END:VEVENT
END:VCALENDAR
