BEGIN:VCALENDAR
VERSION:2.0
PRODID:-//www.nyscadv.org//NONSGML kigkonsult.se iCalcreator 2.30.10//
CALSCALE:GREGORIAN
METHOD:PUBLISH
UID:3290e525-2ca6-41bd-b8af-b54b45ad202f
X-WR-CALDESC:George Floyd\, Breonna Taylor\, Ahmaud Arbery and so many vict
 ims have died because of police brutality and gun violence. The surge in p
 olice brutality and gun violence against the Black population recently led
  all people to come together to peacefully march against these tragedies. 
 This moderated discussion will bring together elected officials\, victims\
 , law enforcement\, policy makers\, and advocacy organizations to discuss 
 the state of race\, police brutality\, and gun violence in America. How do
  we navigate the continued violence and what solutions are available to de
 crease the issue?\n\nPlease note: this program is not for CLE credit.\n\nC
 ART services will be available.\n
X-WR-RELCALID:07c3f91f2aa03b846f7e9513a40cf491
X-WR-TIMEZONE:America/New_York
BEGIN:VTIMEZONE
TZID:America/New_York
BEGIN:STANDARD
TZNAME:EST
DTSTART:20201101T020000
TZOFFSETFROM:-0400
TZOFFSETTO:-0500
RDATE:20211107T020000
END:STANDARD
BEGIN:DAYLIGHT
TZNAME:EDT
DTSTART:20200308T020000
TZOFFSETFROM:-0500
TZOFFSETTO:-0400
RDATE:20210314T020000
RDATE:20220313T020000
END:DAYLIGHT
END:VTIMEZONE
BEGIN:VEVENT
UID:3702a37e-2326-4942-974d-9c1c1004cd2b
DTSTAMP:20260422T050009Z
DESCRIPTION:George Floyd\, Breonna Taylor\, Ahmaud Arbery and so many victi
 ms have died because of police brutality and gun violence. The surge in po
 lice brutality and gun violence against the Black population recently led 
 all people to come together to peacefully march against these tragedies. T
 his moderated discussion will bring together elected officials\, victims\,
  law enforcement\, policy makers\, and advocacy organizations to discuss t
 he state of race\, police brutality\, and gun violence in America. How do 
 we navigate the continued violence and what solutions are available to dec
 rease the issue?\n\nPlease note: this program is not for CLE credit.\n\nCA
 RT services will be available.\n
DTSTART;TZID=America/New_York:20201112T140000
DTEND;TZID=America/New_York:20201112T150000
LOCATION:
SUMMARY:American Bar Association: The State of Race\, Police Brutality and 
 Gun Violence in America
END:VEVENT
END:VCALENDAR
