BEGIN:VCALENDAR
VERSION:2.0
PRODID:-//www.nyscadv.org//NONSGML kigkonsult.se iCalcreator 2.30.10//
CALSCALE:GREGORIAN
METHOD:PUBLISH
UID:220814a9-29d7-422f-9a58-323ceb1db7ef
X-WR-CALDESC:
X-WR-RELCALID:ab5b476993950a111e64b760fe843b17
X-WR-TIMEZONE:America/New_York
BEGIN:VTIMEZONE
TZID:America/New_York
BEGIN:STANDARD
TZNAME:EST
DTSTART:20201101T020000
TZOFFSETFROM:-0400
TZOFFSETTO:-0500
RDATE:20211107T020000
END:STANDARD
BEGIN:DAYLIGHT
TZNAME:EDT
DTSTART:20200308T020000
TZOFFSETFROM:-0500
TZOFFSETTO:-0400
RDATE:20210314T020000
RDATE:20220313T020000
END:DAYLIGHT
END:VTIMEZONE
BEGIN:VEVENT
UID:d11b09d2-1640-4bde-b78b-69bb1fef1721
DTSTAMP:20260422T050500Z
DESCRIPTION:
DTSTART;TZID=America/New_York:20201118T160000
DTEND;TZID=America/New_York:20201118T170000
LOCATION:
SUMMARY:AVP EEP Webinar: Thinking Creatively about Earning Cash During a Pa
 ndemic
END:VEVENT
END:VCALENDAR
