BEGIN:VCALENDAR
VERSION:2.0
PRODID:-//www.nyscadv.org//NONSGML kigkonsult.se iCalcreator 2.30.10//
CALSCALE:GREGORIAN
METHOD:PUBLISH
UID:00cb9f20-5d35-40ed-8a28-d497a5d62973
X-WR-CALDESC:Join us for a special panel discussion of the newly released C
 reating Permanent Supportive Housing to Meet the Needs of Survivors of Dom
 estic Violence: A Toolkit for Low-Income Housing Developers\, Architects\,
  Property Managers\, and Housing Service Providers\, available for downloa
 d on Feb. 9 https://downtownwomenscenter.org/reports/!\n\nThe program will
  include an overview of key insights from the Toolkit on pathways for deve
 loping more inclusive\, trauma-informed housing programs that advance surv
 ivor healing and empowerment\, based on the perspectives of housing develo
 pers\, architects\, property managers\, service providers\, and survivors 
 across the country.\n\nA series of practical workshops for housing develop
 ers\, architects\, property managers\, and service providers will follow i
 n March and April (dates TBD). To receive workshop updates\, please add yo
 ur name and contact information http://bit.ly/36cLJci.\n
X-WR-RELCALID:3cbbc630ad3139a43831da933f559680
X-WR-TIMEZONE:America/New_York
BEGIN:VTIMEZONE
TZID:America/New_York
BEGIN:STANDARD
TZNAME:EST
DTSTART:20201101T020000
TZOFFSETFROM:-0400
TZOFFSETTO:-0500
RDATE:20211107T020000
END:STANDARD
BEGIN:DAYLIGHT
TZNAME:EDT
DTSTART:20200308T020000
TZOFFSETFROM:-0500
TZOFFSETTO:-0400
RDATE:20210314T020000
RDATE:20220313T020000
END:DAYLIGHT
END:VTIMEZONE
BEGIN:VEVENT
UID:8667edb4-52d2-4be8-86b6-1314395609b9
DTSTAMP:20260424T222340Z
DESCRIPTION:Join us for a special panel discussion of the newly released Cr
 eating Permanent Supportive Housing to Meet the Needs of Survivors of Dome
 stic Violence: A Toolkit for Low-Income Housing Developers\, Architects\, 
 Property Managers\, and Housing Service Providers\, available for download
  on Feb. 9 https://downtownwomenscenter.org/reports/!\n\nThe program will 
 include an overview of key insights from the Toolkit on pathways for devel
 oping more inclusive\, trauma-informed housing programs that advance survi
 vor healing and empowerment\, based on the perspectives of housing develop
 ers\, architects\, property managers\, service providers\, and survivors a
 cross the country.\n\nA series of practical workshops for housing develope
 rs\, architects\, property managers\, and service providers will follow in
  March and April (dates TBD). To receive workshop updates\, please add you
 r name and contact information http://bit.ly/36cLJci.\n
DTSTART;TZID=America/New_York:20210217T130000
DTEND;TZID=America/New_York:20210217T143000
LOCATION:
SUMMARY:National Alliance for Safe Housing: Healing Starts at Home: Reimagi
 ning Permanent Supportive Housing for Trauma Survivors
END:VEVENT
END:VCALENDAR
