BEGIN:VCALENDAR
VERSION:2.0
PRODID:-//www.nyscadv.org//NONSGML kigkonsult.se iCalcreator 2.30.10//
CALSCALE:GREGORIAN
METHOD:PUBLISH
UID:5170eb48-1a5e-4049-bad4-65b67ae99b70
X-WR-CALDESC:Building upon a history of shared values and intersecting work
 \, the Partnership to End Gendered Islamophobia brings together HEART\, Ju
 stice for Muslims Collective and Vigilant Love to build analysis\, tools a
 nd power to dismantle Gendered Islamophobia. This workshop is specifically
  tailored towards practitioners in the field of gender-based violence and 
 gender justice. We will focus on ways practitioners can better understand 
 how gendered Islamophobia shows up in their work\, and ways to respond in 
 holistic ways. The workshop will include a focus on the intersection of ge
 ndered Islamophobia\, gender-based violence and reproductive justice. The 
 workshop will emphasize the invisibility of state violence in understandin
 g gender-based violence and particularly the implications of the War on Te
 rror and Islamophobia for Muslim survivors of gender-based violence. Moreo
 ver\, this workshop will also include discussions upon intra-community sol
 idarity and what can be done within broader Asian American spaces to addre
 ss gendered Islamophobia. \n\n
X-WR-RELCALID:b6356019254b8d5f61daa6ae8eb71053
X-WR-TIMEZONE:America/New_York
BEGIN:VTIMEZONE
TZID:America/New_York
BEGIN:STANDARD
TZNAME:EST
DTSTART:20201101T020000
TZOFFSETFROM:-0400
TZOFFSETTO:-0500
RDATE:20211107T020000
END:STANDARD
BEGIN:DAYLIGHT
TZNAME:EDT
DTSTART:20200308T020000
TZOFFSETFROM:-0500
TZOFFSETTO:-0400
RDATE:20210314T020000
RDATE:20220313T020000
END:DAYLIGHT
END:VTIMEZONE
BEGIN:VEVENT
UID:21777c48-6280-4816-a707-25288e347b26
DTSTAMP:20260421T010620Z
DESCRIPTION:Building upon a history of shared values and intersecting work\
 , the Partnership to End Gendered Islamophobia brings together HEART\, Jus
 tice for Muslims Collective and Vigilant Love to build analysis\, tools an
 d power to dismantle Gendered Islamophobia. This workshop is specifically 
 tailored towards practitioners in the field of gender-based violence and g
 ender justice. We will focus on ways practitioners can better understand h
 ow gendered Islamophobia shows up in their work\, and ways to respond in h
 olistic ways. The workshop will include a focus on the intersection of gen
 dered Islamophobia\, gender-based violence and reproductive justice. The w
 orkshop will emphasize the invisibility of state violence in understanding
  gender-based violence and particularly the implications of the War on Ter
 ror and Islamophobia for Muslim survivors of gender-based violence. Moreov
 er\, this workshop will also include discussions upon intra-community soli
 darity and what can be done within broader Asian American spaces to addres
 s gendered Islamophobia. \n\n
DTSTART;TZID=America/New_York:20210301T140000
DTEND;TZID=America/New_York:20210301T153000
LOCATION:
SUMMARY:Partnership to End Gendered Islamophobia: What is Gendered Islamoph
 obia?
END:VEVENT
END:VCALENDAR
