BEGIN:VCALENDAR
VERSION:2.0
PRODID:-//www.nyscadv.org//NONSGML kigkonsult.se iCalcreator 2.30.10//
CALSCALE:GREGORIAN
METHOD:PUBLISH
UID:003a9fe8-1951-4f95-befa-94f8009c05cb
X-WR-CALDESC:NNEDV will host its 4th Economic Justice Summit from March 2 -
  4\, 2021. As part of our ongoing work to highlight and address the inters
 ection of domestic violence and economic security\, this national\, three-
 day Summit will bring together advocates\, state domestic violence coaliti
 ons\, national experts\, and allies to discuss and share strategies to imp
 rove economic security for domestic violence survivors. The Summit will fe
 ature speakers\, panel discussions and workshops on a range of topics. Our
  goals for the Summit are to provide a space to examine the systems that i
 nform economic justice work\; share concrete and innovative tools\; to ide
 ntify emerging issues including national and local policy solutions\; and 
 to strengthen partnerships between the movement to end domestic violence a
 nd anti-poverty movement.
X-WR-RELCALID:e57b2375d4233732d7ac3d236654e035
X-WR-TIMEZONE:America/New_York
BEGIN:VTIMEZONE
TZID:America/New_York
BEGIN:STANDARD
TZNAME:EST
DTSTART:20201101T020000
TZOFFSETFROM:-0400
TZOFFSETTO:-0500
RDATE:20211107T020000
END:STANDARD
BEGIN:DAYLIGHT
TZNAME:EDT
DTSTART:20200308T020000
TZOFFSETFROM:-0500
TZOFFSETTO:-0400
RDATE:20210314T020000
RDATE:20220313T020000
END:DAYLIGHT
END:VTIMEZONE
BEGIN:VEVENT
UID:d67c8661-0fac-49fb-adac-d95d040a9d67
DTSTAMP:20260421T005026Z
DESCRIPTION:NNEDV will host its 4th Economic Justice Summit from March 2 - 
 4\, 2021. As part of our ongoing work to highlight and address the interse
 ction of domestic violence and economic security\, this national\, three-d
 ay Summit will bring together advocates\, state domestic violence coalitio
 ns\, national experts\, and allies to discuss and share strategies to impr
 ove economic security for domestic violence survivors. The Summit will fea
 ture speakers\, panel discussions and workshops on a range of topics. Our 
 goals for the Summit are to provide a space to examine the systems that in
 form economic justice work\; share concrete and innovative tools\; to iden
 tify emerging issues including national and local policy solutions\; and t
 o strengthen partnerships between the movement to end domestic violence an
 d anti-poverty movement.
DTSTART;TZID=America/New_York:20210302T000000
DTEND;TZID=America/New_York:20210304T235900
LOCATION:
SUMMARY:NNEDV Virtual Economic Justice Summit
END:VEVENT
END:VCALENDAR
