BEGIN:VCALENDAR
VERSION:2.0
PRODID:-//www.nyscadv.org//NONSGML kigkonsult.se iCalcreator 2.30.10//
CALSCALE:GREGORIAN
METHOD:PUBLISH
UID:192d8170-66f0-4065-bd7a-2e88ee6d1a08
X-WR-CALDESC:Through this national webinar\, the National Center for Medica
 l-Legal Partnership (NCMLP) and Futures Without Violence (FUTURES) are joi
 ning forces to share strategies on how MLPs can successfully partner with 
 FQHCs and community-based domestic violence programs to improve health out
 comes\, decrease isolation\, and support health care for survivors. MLPs h
 ave unique opportunities to help prevent and address violence and exploita
 tion in their work with health center patients. Presenters will highlight 
 how civil legal service providers partner with FQHCs to address the increa
 sed needs of individuals affected by IPV/HT during COVID-19. Presenters in
 clude: Bethany Hamilton\, JD\, Co-Director\, NCMLP Elena Josway\, Program 
 Director\, Futures Without Violence Dr. Kimberly S.G. Chang\, MD\, MPH\, C
 onsultant\, Futures Without Violence and Family Physician\, Asian Health S
 ervices.
X-WR-RELCALID:8124f950c35eeddf8fb972a28003fc1c
X-WR-TIMEZONE:America/New_York
BEGIN:VTIMEZONE
TZID:America/New_York
BEGIN:STANDARD
TZNAME:EST
DTSTART:20201101T020000
TZOFFSETFROM:-0400
TZOFFSETTO:-0500
RDATE:20211107T020000
END:STANDARD
BEGIN:DAYLIGHT
TZNAME:EDT
DTSTART:20210314T020000
TZOFFSETFROM:-0500
TZOFFSETTO:-0400
RDATE:20220313T020000
END:DAYLIGHT
END:VTIMEZONE
BEGIN:VEVENT
UID:00160c45-563b-4b80-be26-8d29e15daf5b
DTSTAMP:20260421T010128Z
DESCRIPTION:Through this national webinar\, the National Center for Medical
 -Legal Partnership (NCMLP) and Futures Without Violence (FUTURES) are join
 ing forces to share strategies on how MLPs can successfully partner with F
 QHCs and community-based domestic violence programs to improve health outc
 omes\, decrease isolation\, and support health care for survivors. MLPs ha
 ve unique opportunities to help prevent and address violence and exploitat
 ion in their work with health center patients. Presenters will highlight h
 ow civil legal service providers partner with FQHCs to address the increas
 ed needs of individuals affected by IPV/HT during COVID-19. Presenters inc
 lude: Bethany Hamilton\, JD\, Co-Director\, NCMLP Elena Josway\, Program D
 irector\, Futures Without Violence Dr. Kimberly S.G. Chang\, MD\, MPH\, Co
 nsultant\, Futures Without Violence and Family Physician\, Asian Health Se
 rvices.
DTSTART;TZID=America/New_York:20210324T130000
DTEND;TZID=America/New_York:20210324T140000
LOCATION:
SUMMARY:Futures Without Violence: Intimate Partner Violence and Human Traff
 icking: Collaboration between Medical Legal Partnerships\, FQHCs\, and Dom
 estic Violence Programs
END:VEVENT
END:VCALENDAR
