BEGIN:VCALENDAR
VERSION:2.0
PRODID:-//www.nyscadv.org//NONSGML kigkonsult.se iCalcreator 2.30.10//
CALSCALE:GREGORIAN
METHOD:PUBLISH
UID:60e19e34-e108-4338-acd8-13828556b516
X-WR-CALDESC:Self-Care For Advocates is hosting its second annual Self-Care
  For Advocates Conference.\nAbout this Event\nSelf-Care For Advocates is h
 osting its second annual Self-Care For Advocates Conference. Join us this 
 May to learn from experts on topics of burnout\, vicarious trauma\, trauma
 -informed supervision\, community care\, mental health\, and more!\n\n*Ear
 n up to 12 social work continuing education units!\n\n**Additional charges
  may apply.
X-WR-RELCALID:76cacf3f5955985c5f1f7afeb82f71d5
X-WR-TIMEZONE:America/New_York
BEGIN:VTIMEZONE
TZID:America/New_York
BEGIN:STANDARD
TZNAME:EST
DTSTART:20201101T020000
TZOFFSETFROM:-0400
TZOFFSETTO:-0500
RDATE:20211107T020000
RDATE:20221106T020000
END:STANDARD
BEGIN:DAYLIGHT
TZNAME:EDT
DTSTART:20210314T020000
TZOFFSETFROM:-0500
TZOFFSETTO:-0400
RDATE:20220313T020000
END:DAYLIGHT
END:VTIMEZONE
BEGIN:VEVENT
UID:5b74f4e0-2645-4f38-8345-59f54d981e09
DTSTAMP:20260419T130110Z
DESCRIPTION:Self-Care For Advocates is hosting its second annual Self-Care 
 For Advocates Conference.\nAbout this Event\nSelf-Care For Advocates is ho
 sting its second annual Self-Care For Advocates Conference. Join us this M
 ay to learn from experts on topics of burnout\, vicarious trauma\, trauma-
 informed supervision\, community care\, mental health\, and more!\n\n*Earn
  up to 12 social work continuing education units!\n\n**Additional charges 
 may apply.
DTSTART;TZID=America/New_York:20210512T000000
DTEND;TZID=America/New_York:20210514T235900
LOCATION:
SUMMARY:Self-Care for Advocates Conference 2021
END:VEVENT
END:VCALENDAR
