BEGIN:VCALENDAR
VERSION:2.0
PRODID:-//www.nyscadv.org//NONSGML kigkonsult.se iCalcreator 2.30.10//
CALSCALE:GREGORIAN
METHOD:PUBLISH
UID:36e9d5ca-8616-41d2-99fb-11cf30e42df9
X-WR-CALDESC:On August 18th\, 2021\, HUD released the Notice of Funding Opp
 ortunity for FY21 for the Continuum of Care Competition and Noncompetitive
  Award of Youth Homeless Demonstration Program Renewal and Replacement gra
 nts. This year there is $102\,000\,000 available for Domestic Violence (DV
 ) Bonus projects. The project options are Permanent Housing-Rapid Rehousin
 g (PH-RRH)\, Joint Transitional  Housing\, Permanent Housing-Rapid Rehousi
 ng (Joint TH and PH-RRH)  projects. The webinar will present the highlight
 s of this NOFO\, including discussion of the comparable database needs\, h
 ow you can be competitive in your application\, and match fund options.
X-WR-RELCALID:8dd94ea25136e1082900b5c84bef2821
X-WR-TIMEZONE:America/New_York
BEGIN:VTIMEZONE
TZID:America/New_York
BEGIN:STANDARD
TZNAME:EST
DTSTART:20201101T020000
TZOFFSETFROM:-0400
TZOFFSETTO:-0500
RDATE:20211107T020000
RDATE:20221106T020000
END:STANDARD
BEGIN:DAYLIGHT
TZNAME:EDT
DTSTART:20210314T020000
TZOFFSETFROM:-0500
TZOFFSETTO:-0400
RDATE:20220313T020000
RDATE:20230312T020000
END:DAYLIGHT
END:VTIMEZONE
BEGIN:VEVENT
UID:93d5bec6-57b7-4dfc-9298-03aa80537bc6
DTSTAMP:20260424T172246Z
DESCRIPTION:On August 18th\, 2021\, HUD released the Notice of Funding Oppo
 rtunity for FY21 for the Continuum of Care Competition and Noncompetitive 
 Award of Youth Homeless Demonstration Program Renewal and Replacement gran
 ts. This year there is $102\,000\,000 available for Domestic Violence (DV)
  Bonus projects. The project options are Permanent Housing-Rapid Rehousing
  (PH-RRH)\, Joint Transitional  Housing\, Permanent Housing-Rapid Rehousin
 g (Joint TH and PH-RRH)  projects. The webinar will present the highlights
  of this NOFO\, including discussion of the comparable database needs\, ho
 w you can be competitive in your application\, and match fund options.
DTSTART;TZID=America/New_York:20210929T130000
DTEND;TZID=America/New_York:20210929T143000
LOCATION:https://zoom.us/webinar/register/WN_Tv7VG70gSb2CuayhrCaAbQ
SUMMARY:FY21 HUD CoC Program Competition: What Domestic and Sexual Violence
  Programs Need to Know
END:VEVENT
END:VCALENDAR
