BEGIN:VCALENDAR
VERSION:2.0
PRODID:-//www.nyscadv.org//NONSGML kigkonsult.se iCalcreator 2.30.10//
CALSCALE:GREGORIAN
METHOD:PUBLISH
UID:1620b8b7-d5fd-4c1c-b453-847bcdc23c15
X-WR-CALDESC:This discussion seeks to answer the following: in examining ha
 rm caused to children by those who enabled the perpetrators\, are restorat
 ive justice principles an effective mechanism for demanding accountability
  while examining the harmful impact on the victim-survivor? Can restorativ
 e justice be used in conjunction with the criminal law to achieve both goa
 ls? Two persons with lived experiences involved in highly publicized crimi
 nal cases will share their perspectives. \n\nPresenters:  \n•	Amos Guiora\,
  Professor of Law at the S.J. Quinney College of Law\, the University of U
 tah. \n•	Tiffany Thomas Lopez\, Survivor/Advocate \n•	Peter Pollard\, Surviv
 or/Advocate \n
X-WR-RELCALID:47268106486bb460d90207df9bbf785a
X-WR-TIMEZONE:America/New_York
BEGIN:VTIMEZONE
TZID:America/New_York
BEGIN:STANDARD
TZNAME:EST
DTSTART:20221106T020000
TZOFFSETFROM:-0400
TZOFFSETTO:-0500
RDATE:20231105T020000
END:STANDARD
BEGIN:DAYLIGHT
TZNAME:EDT
DTSTART:20230312T020000
TZOFFSETFROM:-0500
TZOFFSETTO:-0400
RDATE:20240310T020000
END:DAYLIGHT
END:VTIMEZONE
BEGIN:VEVENT
UID:1a8b2e08-3ece-41e2-8750-b134c813c3d9
DTSTAMP:20260423T204556Z
DESCRIPTION:This discussion seeks to answer the following: in examining har
 m caused to children by those who enabled the perpetrators\, are restorati
 ve justice principles an effective mechanism for demanding accountability 
 while examining the harmful impact on the victim-survivor? Can restorative
  justice be used in conjunction with the criminal law to achieve both goal
 s? Two persons with lived experiences involved in highly publicized crimin
 al cases will share their perspectives. \n\nPresenters:  \n•	Amos Guiora\, 
 Professor of Law at the S.J. Quinney College of Law\, the University of Ut
 ah. \n•	Tiffany Thomas Lopez\, Survivor/Advocate \n•	Peter Pollard\, Survivo
 r/Advocate \n
DTSTART;TZID=America/New_York:20230425T150000
DTEND;TZID=America/New_York:20230425T163000
LOCATION:https://us02web.zoom.us/webinar/register/WN_sjcksO_uQ-eEw0bP_J-KrA
 #/registration
SUMMARY:Restorative Justice Discussion: NOVA
END:VEVENT
END:VCALENDAR
