BEGIN:VCALENDAR
VERSION:2.0
PRODID:-//www.nyscadv.org//NONSGML kigkonsult.se iCalcreator 2.30.10//
CALSCALE:GREGORIAN
METHOD:PUBLISH
UID:9462936d-7170-41a3-9ae2-cc581d73bc85
X-WR-CALDESC:“Embodied in the aspirations of Every Voice Coalition…paradigm
 -shifting\, transformational change seems to be just what is called for if
  policy solutions are to hold meaningful sway.” — “Women\, Power and Rape 
 Culture: The Politics and Policy of Underrepresentation” by Bonnie Stabile
 \, PhD\, and Aubrey Leigh Grant\, MPP\n\nJoin leaders from The Every Voice
  Coalition to hear their lessons learned about the power of student and su
 rvivor- led\, state-level legislative reform in the fight to end campus se
 xual violence. After passing 6 state laws in the last 3 years\, EVC is gea
 red up to bring their groundbreaking policies to all 50 states\, but it wi
 ll take all of us working together to get there! Together\, we can take ac
 tion and end campus sexual violence.\n\nPresenters:\n•	Lily James\, Co-Exec
 utive Director of Every Voice Coalition \n•	Andrew Echols\, Co-Executive Di
 rector of Every Voice Coalition \n
X-WR-RELCALID:40a4ebe2edee7ce031f341c42557257d
X-WR-TIMEZONE:America/New_York
BEGIN:VTIMEZONE
TZID:America/New_York
BEGIN:STANDARD
TZNAME:EST
DTSTART:20221106T020000
TZOFFSETFROM:-0400
TZOFFSETTO:-0500
RDATE:20231105T020000
END:STANDARD
BEGIN:DAYLIGHT
TZNAME:EDT
DTSTART:20230312T020000
TZOFFSETFROM:-0500
TZOFFSETTO:-0400
RDATE:20240310T020000
END:DAYLIGHT
END:VTIMEZONE
BEGIN:VEVENT
UID:fda29556-b7ea-4676-86e3-8ccfb6f53f0a
DTSTAMP:20260422T121703Z
DESCRIPTION:“Embodied in the aspirations of Every Voice Coalition…paradigm-
 shifting\, transformational change seems to be just what is called for if 
 policy solutions are to hold meaningful sway.” — “Women\, Power and Rape C
 ulture: The Politics and Policy of Underrepresentation” by Bonnie Stabile\
 , PhD\, and Aubrey Leigh Grant\, MPP\n\nJoin leaders from The Every Voice 
 Coalition to hear their lessons learned about the power of student and sur
 vivor- led\, state-level legislative reform in the fight to end campus sex
 ual violence. After passing 6 state laws in the last 3 years\, EVC is gear
 ed up to bring their groundbreaking policies to all 50 states\, but it wil
 l take all of us working together to get there! Together\, we can take act
 ion and end campus sexual violence.\n\nPresenters:\n•	Lily James\, Co-Execu
 tive Director of Every Voice Coalition \n•	Andrew Echols\, Co-Executive Dir
 ector of Every Voice Coalition \n
DTSTART;TZID=America/New_York:20230426T150000
DTEND;TZID=America/New_York:20230426T163000
LOCATION:https://us02web.zoom.us/webinar/register/WN_Qf65u1PEQPqQfBQrhiLOYQ
 #/registration
SUMMARY:Mobilizing for Survivor-Centered State-level Policy Reform\, NOVA
END:VEVENT
END:VCALENDAR
