BEGIN:VCALENDAR
VERSION:2.0
PRODID:-//www.nyscadv.org//NONSGML kigkonsult.se iCalcreator 2.30.10//
CALSCALE:GREGORIAN
METHOD:PUBLISH
UID:45cce7d9-6aad-4817-b036-1d7d62e8a3ae
X-WR-CALDESC:Join National Low Income Housing Coalition\, National Alliance
  to End Homelessness\, and Center on Budget and Policy Priorities for a we
 binar on homelessness and Housing First.\n\nHomelessness is a crisis in ma
 ny communities – one that demands urgent action. To end homelessness once 
 and for all\, federal\, state\, and local governments must invest in prove
 n solutions at the scale necessary to address the problem. The Housing Fir
 st model is one of the best strategies for ending homelessness.\n\nSession
 s will be held:  \nMay 15\, 2023 02:30 PM - 4:00 PM \nJun 12\, 2023 02:30 
 PM - 4:00 PM \nJul 10\, 2023 02:30 PM- 4:00 PM
X-WR-RELCALID:b91dbe81c74530e18f30e1dfa6a81dcc
X-WR-TIMEZONE:America/New_York
BEGIN:VTIMEZONE
TZID:America/New_York
BEGIN:STANDARD
TZNAME:EST
DTSTART:20221106T020000
TZOFFSETFROM:-0400
TZOFFSETTO:-0500
RDATE:20231105T020000
RDATE:20241103T020000
END:STANDARD
BEGIN:DAYLIGHT
TZNAME:EDT
DTSTART:20230312T020000
TZOFFSETFROM:-0500
TZOFFSETTO:-0400
RDATE:20240310T020000
END:DAYLIGHT
END:VTIMEZONE
BEGIN:VEVENT
UID:2759d67f-d138-4a94-b285-64452643d2bc
DTSTAMP:20260424T214243Z
DESCRIPTION:Join National Low Income Housing Coalition\, National Alliance 
 to End Homelessness\, and Center on Budget and Policy Priorities for a web
 inar on homelessness and Housing First.\n\nHomelessness is a crisis in man
 y communities – one that demands urgent action. To end homelessness once a
 nd for all\, federal\, state\, and local governments must invest in proven
  solutions at the scale necessary to address the problem. The Housing Firs
 t model is one of the best strategies for ending homelessness.\n\nSessions
  will be held:  \nMay 15\, 2023 02:30 PM - 4:00 PM \nJun 12\, 2023 02:30 P
 M - 4:00 PM \nJul 10\, 2023 02:30 PM- 4:00 PM
DTSTART;TZID=America/New_York:20230710T143000
DTEND;TZID=America/New_York:20230710T160000
LOCATION:https://us02web.zoom.us/webinar/register/WN_DnyXryrNTympLLs9GnCOGw
 ?utm_source=NLIHC+All+Subscribers&utm_campaign=71c20a548d-hfwebinar_051223
 &utm_medium=email&utm_term=0_e090383b5e-71c20a548d-293264493&ct=t(hfwebina
 r_051223)#/registration
SUMMARY:Housing First and Faith-Based Organizations
END:VEVENT
END:VCALENDAR
