BEGIN:VCALENDAR
VERSION:2.0
PRODID:-//www.nyscadv.org//NONSGML kigkonsult.se iCalcreator 2.30.10//
CALSCALE:GREGORIAN
METHOD:PUBLISH
UID:a50e5277-5789-4c6c-8cfc-12b90c4a16b1
X-WR-CALDESC:Press Conference regarding Domestic Violence Awareness Month a
 long with the announcement of the lighting of Niagara Falls purple
X-WR-RELCALID:6572e78cec8f7f87b3f2909c3ec111cd
X-WR-TIMEZONE:America/New_York
BEGIN:VTIMEZONE
TZID:America/New_York
BEGIN:STANDARD
TZNAME:EST
DTSTART:20221106T020000
TZOFFSETFROM:-0400
TZOFFSETTO:-0500
RDATE:20231105T020000
RDATE:20241103T020000
END:STANDARD
BEGIN:DAYLIGHT
TZNAME:EDT
DTSTART:20230312T020000
TZOFFSETFROM:-0500
TZOFFSETTO:-0400
RDATE:20240310T020000
RDATE:20250309T020000
END:DAYLIGHT
END:VTIMEZONE
BEGIN:VEVENT
UID:09e2ff2d-a5e7-4f34-8753-139ad928e591
DTSTAMP:20260420T142450Z
DESCRIPTION:Press Conference regarding Domestic Violence Awareness Month al
 ong with the announcement of the lighting of Niagara Falls purple
DTSTART;TZID=America/New_York:20231023T173000
DTEND;TZID=America/New_York:20231023T200000
LOCATION:844 Delaware Ave.\, Buffalo\, NY 14202 US
SUMMARY:Shine the Light\, Child & Family Services - Haven House
END:VEVENT
END:VCALENDAR
