BEGIN:VCALENDAR
VERSION:2.0
PRODID:-//www.nyscadv.org//NONSGML kigkonsult.se iCalcreator 2.30.10//
CALSCALE:GREGORIAN
METHOD:PUBLISH
UID:09577c00-947b-4ef9-8343-74d4fa35c978
X-WR-CALDESC:Meeting of domestic violence stakeholders in Erie County to di
 scuss the current coordinated community response to domestic violence and 
 the improvements that can be made. This meeting is a precursor to a larger
  community meeting to be held at the beginning of the year.
X-WR-RELCALID:e0dbb45a527b5a453bd1c12053b40d53
X-WR-TIMEZONE:America/New_York
BEGIN:VTIMEZONE
TZID:America/New_York
BEGIN:STANDARD
TZNAME:EST
DTSTART:20221106T020000
TZOFFSETFROM:-0400
TZOFFSETTO:-0500
RDATE:20231105T020000
RDATE:20241103T020000
END:STANDARD
BEGIN:DAYLIGHT
TZNAME:EDT
DTSTART:20230312T020000
TZOFFSETFROM:-0500
TZOFFSETTO:-0400
RDATE:20240310T020000
RDATE:20250309T020000
END:DAYLIGHT
END:VTIMEZONE
BEGIN:VEVENT
UID:8fa4c9a1-cf09-4d32-9ae4-8320ed7a3f89
DTSTAMP:20260424T190235Z
DESCRIPTION:Meeting of domestic violence stakeholders in Erie County to dis
 cuss the current coordinated community response to domestic violence and t
 he improvements that can be made. This meeting is a precursor to a larger 
 community meeting to be held at the beginning of the year.
DTSTART;TZID=America/New_York:20231024T090000
DTEND;TZID=America/New_York:20231024T100000
LOCATION:33 Delaware Ave\, Buffalo\, NY 14202 US
SUMMARY:Stakeholders Meeting\, Child & Family Services - Haven House
END:VEVENT
END:VCALENDAR
