BEGIN:VCALENDAR
VERSION:2.0
PRODID:-//www.nyscadv.org//NONSGML kigkonsult.se iCalcreator 2.30.10//
CALSCALE:GREGORIAN
METHOD:PUBLISH
UID:a9f93b62-e419-4be4-8b4a-9efaeea5c18b
X-WR-CALDESC:On August 21\, 2024\, the Domestic Violence Program of Fulton 
 County will be welcoming Domestic Violence Program staff from across New Y
 ork for a one-day summit focusing on the intersection of domestic violence
 \, mental health\, and substance use disorder. This event will bring toget
 her professionals focused on caring for those seeking safety in their live
 s\, relationships free of abuse\, and brighter futures for themselves and 
 their families.
X-WR-RELCALID:017f80d6157bb0898840dc709d8d8bac
X-WR-TIMEZONE:America/New_York
BEGIN:VTIMEZONE
TZID:America/New_York
BEGIN:STANDARD
TZNAME:EST
DTSTART:20231105T020000
TZOFFSETFROM:-0400
TZOFFSETTO:-0500
RDATE:20241103T020000
RDATE:20251102T020000
END:STANDARD
BEGIN:DAYLIGHT
TZNAME:EDT
DTSTART:20240310T020000
TZOFFSETFROM:-0500
TZOFFSETTO:-0400
RDATE:20250309T020000
END:DAYLIGHT
END:VTIMEZONE
BEGIN:VEVENT
UID:1cb050f5-f272-4b4c-b721-dec213f0f95e
DTSTAMP:20260423T190312Z
DESCRIPTION:On August 21\, 2024\, the Domestic Violence Program of Fulton C
 ounty will be welcoming Domestic Violence Program staff from across New Yo
 rk for a one-day summit focusing on the intersection of domestic violence\
 , mental health\, and substance use disorder. This event will bring togeth
 er professionals focused on caring for those seeking safety in their lives
 \, relationships free of abuse\, and brighter futures for themselves and t
 heir families.
DTSTART;TZID=America/New_York:20240821T080000
DTEND;TZID=America/New_York:20240821T153000
LOCATION:Fulton Montgomery Community College\, 2805 State Highway 67\, John
 stown\, NY 12095 US
SUMMARY:DV Program Summit: The Intersection of Domestic Violence\, Mental H
 ealth\, and Substance Use Disorder: The Family Counseling Center of Fulton
  County
END:VEVENT
END:VCALENDAR
