BEGIN:VCALENDAR
VERSION:2.0
PRODID:-//www.nyscadv.org//NONSGML kigkonsult.se iCalcreator 2.30.10//
CALSCALE:GREGORIAN
METHOD:PUBLISH
UID:2fab61ae-df1c-4112-ac36-8eb865388960
X-WR-CALDESC:Join NYSCADV and Domestic Violence Program Directors from acro
 ss the state for the 2024 Domestic Violence Program Directors’ Summit in A
 lbany. This year's summit will be held on Tuesday\, September 10 from 10:0
 0 AM – 3:30 PM at Hilton Albany.\n\nWho should attend:\nRegistration is op
 en to program directors\, staff in leadership and supervisory roles\, and 
 advocates at private\, nonprofit\, nongovernmental organizations and progr
 ams that have a primary purpose of providing shelter and supportive servic
 es to adult and youth victims of family violence\, domestic violence\, or 
 dating violence\, and their dependents. This includes\, but is not limited
  to\, programs that are licensed by the NYS Office for Children and Family
  Services or have local NY Department of Social Services contracts to prov
 ide domestic violence services\, either residential or non-residential\n
X-WR-RELCALID:a7a54a08842d7553d807fdc8fb542745
X-WR-TIMEZONE:America/New_York
BEGIN:VTIMEZONE
TZID:America/New_York
BEGIN:STANDARD
TZNAME:EST
DTSTART:20231105T020000
TZOFFSETFROM:-0400
TZOFFSETTO:-0500
RDATE:20241103T020000
RDATE:20251102T020000
END:STANDARD
BEGIN:DAYLIGHT
TZNAME:EDT
DTSTART:20240310T020000
TZOFFSETFROM:-0500
TZOFFSETTO:-0400
RDATE:20250309T020000
RDATE:20260308T020000
END:DAYLIGHT
END:VTIMEZONE
BEGIN:VEVENT
UID:9ea71fb6-6531-4aa4-92f9-4e8091737187
DTSTAMP:20260422T022729Z
DESCRIPTION:Join NYSCADV and Domestic Violence Program Directors from acros
 s the state for the 2024 Domestic Violence Program Directors’ Summit in Al
 bany. This year's summit will be held on Tuesday\, September 10 from 10:00
  AM – 3:30 PM at Hilton Albany.\n\nWho should attend:\nRegistration is ope
 n to program directors\, staff in leadership and supervisory roles\, and a
 dvocates at private\, nonprofit\, nongovernmental organizations and progra
 ms that have a primary purpose of providing shelter and supportive service
 s to adult and youth victims of family violence\, domestic violence\, or d
 ating violence\, and their dependents. This includes\, but is not limited 
 to\, programs that are licensed by the NYS Office for Children and Family 
 Services or have local NY Department of Social Services contracts to provi
 de domestic violence services\, either residential or non-residential\n
DTSTART;TZID=America/New_York:20240910T100000
DTEND;TZID=America/New_York:20240910T153000
LOCATION:Hilton Albany\, 40 Lodge Street\, Albany\, NY 12207 US
SUMMARY:NYSCADV Program Directors' Summit
END:VEVENT
END:VCALENDAR
