BEGIN:VCALENDAR
VERSION:2.0
PRODID:-//www.nyscadv.org//NONSGML kigkonsult.se iCalcreator 2.30.10//
CALSCALE:GREGORIAN
METHOD:PUBLISH
UID:1eaf5541-01ed-49e7-93ff-02c0dbf7e406
X-WR-CALDESC:Join us at the Bedford Playhouse for a conversation with Miche
 lle Horton\, author of an acclaimed book that explores the vast impact dom
 estic violence and criminalized survival has on a family and community. Mo
 derated by Susan Williamson\, owner of Booksy Galore. Dear Sister is a bre
 athtaking memoir about two sisters and a high-profile case: the author’s s
 ister\, Nikki Addimando\, spent 7 years incarcerated for killing her longt
 ime abuser\, and was released from Bedford Hills Correctional Facility in 
 January of 2024. Dear Sister is a profound\, intimate story about not just
  surviving trauma\, but turning it into hard-won wisdom. It is a story of 
 resilience and the unbreakable bond of family. Books will be available for
  sale at the event.
X-WR-RELCALID:7d6db7c65d34a0ca0117573e506a9681
X-WR-TIMEZONE:America/New_York
BEGIN:VTIMEZONE
TZID:America/New_York
BEGIN:STANDARD
TZNAME:EST
DTSTART:20231105T020000
TZOFFSETFROM:-0400
TZOFFSETTO:-0500
RDATE:20241103T020000
RDATE:20251102T020000
END:STANDARD
BEGIN:DAYLIGHT
TZNAME:EDT
DTSTART:20240310T020000
TZOFFSETFROM:-0500
TZOFFSETTO:-0400
RDATE:20250309T020000
RDATE:20260308T020000
END:DAYLIGHT
END:VTIMEZONE
BEGIN:VEVENT
UID:7322b323-eecc-4c70-86be-b2fcd7631e42
DTSTAMP:20260425T001250Z
DESCRIPTION:Join us at the Bedford Playhouse for a conversation with Michel
 le Horton\, author of an acclaimed book that explores the vast impact dome
 stic violence and criminalized survival has on a family and community. Mod
 erated by Susan Williamson\, owner of Booksy Galore. Dear Sister is a brea
 thtaking memoir about two sisters and a high-profile case: the author’s si
 ster\, Nikki Addimando\, spent 7 years incarcerated for killing her longti
 me abuser\, and was released from Bedford Hills Correctional Facility in J
 anuary of 2024. Dear Sister is a profound\, intimate story about not just 
 surviving trauma\, but turning it into hard-won wisdom. It is a story of r
 esilience and the unbreakable bond of family. Books will be available for 
 sale at the event.
DTSTART;TZID=America/New_York:20241009T190000
DTEND;TZID=America/New_York:20241009T210000
LOCATION:Bedford Playhouse
SUMMARY:'Dear Sister' Book Event- Hope's Door
END:VEVENT
END:VCALENDAR
