BEGIN:VCALENDAR
VERSION:2.0
PRODID:-//www.nyscadv.org//NONSGML kigkonsult.se iCalcreator 2.30.10//
CALSCALE:GREGORIAN
METHOD:PUBLISH
UID:da9251c9-8e88-4fb9-91a7-9ffb96674591
X-WR-CALDESC:The Hope’s Door Advisory Council invites you to an unforgettab
 le evening at Kanopi\, in White Plains\, featuring cocktails\, breathtakin
 g skyline views\, and a culinary experience from Chef Anthony Gonçalves an
 d more. Attendees will hear the inspiring story of a former client who suc
 cessfully rebuilt their life\, culminating in an uplifting candlelight con
 cert. Together\, we will plant the seeds of hope within our community for 
 a future without domestic violence.
X-WR-RELCALID:f5d2cfbbd7e7b96afe3cbdf8d3843256
X-WR-TIMEZONE:America/New_York
BEGIN:VTIMEZONE
TZID:America/New_York
BEGIN:STANDARD
TZNAME:EST
DTSTART:20231105T020000
TZOFFSETFROM:-0400
TZOFFSETTO:-0500
RDATE:20241103T020000
RDATE:20251102T020000
END:STANDARD
BEGIN:DAYLIGHT
TZNAME:EDT
DTSTART:20240310T020000
TZOFFSETFROM:-0500
TZOFFSETTO:-0400
RDATE:20250309T020000
RDATE:20260308T020000
END:DAYLIGHT
END:VTIMEZONE
BEGIN:VEVENT
UID:1c7d6293-31ea-4b68-a397-68faa6a0a16e
DTSTAMP:20260423T223607Z
DESCRIPTION:The Hope’s Door Advisory Council invites you to an unforgettabl
 e evening at Kanopi\, in White Plains\, featuring cocktails\, breathtaking
  skyline views\, and a culinary experience from Chef Anthony Gonçalves and
  more. Attendees will hear the inspiring story of a former client who succ
 essfully rebuilt their life\, culminating in an uplifting candlelight conc
 ert. Together\, we will plant the seeds of hope within our community for a
  future without domestic violence.
DTSTART;TZID=America/New_York:20241016T180000
DTEND;TZID=America/New_York:20241016T210000
LOCATION:1 Renaissance Square\, White Plains\, NY 10601 US
SUMMARY:A Hopeful Evening-Hope's Door
END:VEVENT
END:VCALENDAR
